BEGIN:VCALENDAR
VERSION:2.0
PRODID:-//wp-events-plugin.com//7.2.3.1//EN
TZID:Europe/Paris
X-WR-TIMEZONE:Europe/Paris
BEGIN:VEVENT
UID:7569@espacecaningeispolsheim.fr
DTSTART;TZID=Europe/Paris:20260810T000000
DTEND;TZID=Europe/Paris:20260829T235900
DTSTAMP:20260422T181605Z
URL:https://espacecaningeispolsheim.fr/index.php/events/vacances-club/
SUMMARY:Vacances club
DESCRIPTION:Fermeture du club pour les vacances.
CATEGORIES:Vacances Club
END:VEVENT
BEGIN:VTIMEZONE
TZID:Europe/Paris
X-LIC-LOCATION:Europe/Paris
BEGIN:DAYLIGHT
DTSTART:20260329T030000
TZOFFSETFROM:+0100
TZOFFSETTO:+0200
TZNAME:CEST
END:DAYLIGHT
END:VTIMEZONE
END:VCALENDAR