BEGIN:VCALENDAR
VERSION:2.0
PRODID:-//wp-events-plugin.com//7.2.3.1//EN
TZID:Europe/Paris
X-WR-TIMEZONE:Europe/Paris
BEGIN:VEVENT
UID:7566@espacecaningeispolsheim.fr
DTSTART;TZID=Europe/Paris:20260603T083000
DTEND;TZID=Europe/Paris:20260604T170000
DTSTAMP:20260418T081351Z
URL:https://espacecaningeispolsheim.fr/index.php/events/stage-obeissance/
SUMMARY:Stage Obéissance
DESCRIPTION:intervenant M Claude Guzzo
CATEGORIES:Obéissance
END:VEVENT
BEGIN:VTIMEZONE
TZID:Europe/Paris
X-LIC-LOCATION:Europe/Paris
BEGIN:DAYLIGHT
DTSTART:20260329T030000
TZOFFSETFROM:+0100
TZOFFSETTO:+0200
TZNAME:CEST
END:DAYLIGHT
END:VTIMEZONE
END:VCALENDAR