BEGIN:VCALENDAR
VERSION:2.0
PRODID:-//wp-events-plugin.com//7.2.3.1//EN
TZID:Europe/Paris
X-WR-TIMEZONE:Europe/Paris
BEGIN:VEVENT
UID:4370@espacecaningeispolsheim.fr
DTSTART;TZID=Europe/Paris:20250617T190000
DTEND;TZID=Europe/Paris:20250617T203000
DTSTAMP:20250531T165901Z
URL:https://espacecaningeispolsheim.fr/index.php/events/soiree-question-re
 ponse/
SUMMARY:soirée question-réponse
DESCRIPTION:Une soirée ou vous pouvez poser vos questions à nos moniteurs
  par rapport aux problématiques que vous rencontrez avec votre chien\, ou
  par rapport aux autres thématiques en lien avec des chiens qui vous int
 éressent. Avec le bar ouvert et petite restauration proposée\, nous vous
  offrons la possibilité de passer une soirée agréable dans une ambiance
  amicale\, et en même temps avoir des réponses des professionnels compé
 tents.
CATEGORIES:Education
END:VEVENT
BEGIN:VTIMEZONE
TZID:Europe/Paris
X-LIC-LOCATION:Europe/Paris
BEGIN:DAYLIGHT
DTSTART:20250330T030000
TZOFFSETFROM:+0100
TZOFFSETTO:+0200
TZNAME:CEST
END:DAYLIGHT
END:VTIMEZONE
END:VCALENDAR