BEGIN:VCALENDAR
VERSION:2.0
PRODID:-//wp-events-plugin.com//7.2.3.1//EN
TZID:Europe/Paris
X-WR-TIMEZONE:Europe/Paris
BEGIN:VEVENT
UID:3747@espacecaningeispolsheim.fr
DTSTART;TZID=Europe/Paris:20241019T190000
DTEND;TZID=Europe/Paris:20241019T235500
DTSTAMP:20240922T195702Z
URL:https://espacecaningeispolsheim.fr/index.php/events/soiree-paella/
SUMMARY:Soirée paëlla
DESCRIPTION:Le club organise sa traditionnelle soirée paëlla.\n\n&nbsp\;
CATEGORIES:Reservations
END:VEVENT
BEGIN:VTIMEZONE
TZID:Europe/Paris
X-LIC-LOCATION:Europe/Paris
BEGIN:DAYLIGHT
DTSTART:20240331T030000
TZOFFSETFROM:+0100
TZOFFSETTO:+0200
TZNAME:CEST
END:DAYLIGHT
END:VTIMEZONE
END:VCALENDAR