BEGIN:VCALENDAR
VERSION:2.0
PRODID:-//wp-events-plugin.com//7.2.3.1//EN
TZID:Europe/Paris
X-WR-TIMEZONE:Europe/Paris
BEGIN:VEVENT
UID:3746@espacecaningeispolsheim.fr
DTSTART;TZID=Europe/Paris:20241123T190000
DTEND;TZID=Europe/Paris:20241123T235500
DTSTAMP:20241122T203246Z
URL:https://espacecaningeispolsheim.fr/index.php/events/soiree-choucroute/
SUMMARY:Soirée choucroute (annulée)
DESCRIPTION:Cliquer ici pour réserver votre place et payer en ligne
CATEGORIES:Reservations
END:VEVENT
BEGIN:VTIMEZONE
TZID:Europe/Paris
X-LIC-LOCATION:Europe/Paris
BEGIN:STANDARD
DTSTART:20241027T020000
TZOFFSETFROM:+0200
TZOFFSETTO:+0100
TZNAME:CET
END:STANDARD
END:VTIMEZONE
END:VCALENDAR