BEGIN:VCALENDAR
VERSION:2.0
PRODID:-//wp-events-plugin.com//7.2.3.1//EN
TZID:Europe/Paris
X-WR-TIMEZONE:Europe/Paris
BEGIN:VEVENT
UID:5502@espacecaningeispolsheim.fr
DTSTART;TZID=Europe/Paris:20260208T120000
DTEND;TZID=Europe/Paris:20260208T160000
DTSTAMP:20251207T193225Z
URL:https://espacecaningeispolsheim.fr/index.php/events/rpas-couscous/
SUMMARY:Repas couscous
DESCRIPTION:Cliquer ici pour réserver votre place et payer en ligne
CATEGORIES:Reservations
END:VEVENT
BEGIN:VTIMEZONE
TZID:Europe/Paris
X-LIC-LOCATION:Europe/Paris
BEGIN:STANDARD
DTSTART:20251026T020000
TZOFFSETFROM:+0200
TZOFFSETTO:+0100
TZNAME:CET
END:STANDARD
END:VTIMEZONE
END:VCALENDAR