BEGIN:VCALENDAR
VERSION:2.0
PRODID:-//wp-events-plugin.com//7.2.3.1//EN
TZID:Europe/Paris
X-WR-TIMEZONE:Europe/Paris
BEGIN:VEVENT
UID:3764@espacecaningeispolsheim.fr
DTSTART;TZID=Europe/Paris:20241023T190000
DTEND;TZID=Europe/Paris:20241023T210000
DTSTAMP:20241003T074906Z
URL:https://espacecaningeispolsheim.fr/index.php/events/reservation-salle-
 zita-celine-h/
SUMMARY:réservation salle Zita-Céline H
DESCRIPTION:
CATEGORIES:Reservations
END:VEVENT
BEGIN:VTIMEZONE
TZID:Europe/Paris
X-LIC-LOCATION:Europe/Paris
BEGIN:DAYLIGHT
DTSTART:20240331T030000
TZOFFSETFROM:+0100
TZOFFSETTO:+0200
TZNAME:CEST
END:DAYLIGHT
END:VTIMEZONE
END:VCALENDAR