BEGIN:VCALENDAR
VERSION:2.0
PRODID:-//wp-events-plugin.com//7.2.3.1//EN
TZID:Europe/Paris
X-WR-TIMEZONE:Europe/Paris
BEGIN:VEVENT
UID:3768@espacecaningeispolsheim.fr
DTSTART;TZID=Europe/Paris:20241204T190000
DTEND;TZID=Europe/Paris:20241204T210000
DTSTAMP:20241003T075207Z
URL:https://espacecaningeispolsheim.fr/index.php/events/reservation-salle-
 zita-celine-h-2024-12-04/
SUMMARY:réservation salle Zita-Céline H
DESCRIPTION:
CATEGORIES:Reservations
END:VEVENT
BEGIN:VTIMEZONE
TZID:Europe/Paris
X-LIC-LOCATION:Europe/Paris
BEGIN:STANDARD
DTSTART:20241027T020000
TZOFFSETFROM:+0200
TZOFFSETTO:+0100
TZNAME:CET
END:STANDARD
END:VTIMEZONE
END:VCALENDAR