BEGIN:VCALENDAR
VERSION:2.0
PRODID:-//wp-events-plugin.com//7.2.3.1//EN
TZID:Europe/Paris
X-WR-TIMEZONE:Europe/Paris
BEGIN:VEVENT
UID:4118@espacecaningeispolsheim.fr
DTSTART;TZID=Europe/Paris:20251109T100000
DTEND;TZID=Europe/Paris:20251109T113000
DTSTAMP:20250104T212459Z
URL:https://espacecaningeispolsheim.fr/index.php/events/recre2-6-2025-11-0
 9/
SUMMARY:récré@2
DESCRIPTION:
CATEGORIES:Récré@2
END:VEVENT
BEGIN:VTIMEZONE
TZID:Europe/Paris
X-LIC-LOCATION:Europe/Paris
BEGIN:STANDARD
DTSTART:20251026T020000
TZOFFSETFROM:+0200
TZOFFSETTO:+0100
TZNAME:CET
END:STANDARD
END:VTIMEZONE
END:VCALENDAR