BEGIN:VCALENDAR
VERSION:2.0
PRODID:-//wp-events-plugin.com//7.2.3.1//EN
TZID:Europe/Paris
X-WR-TIMEZONE:Europe/Paris
BEGIN:VEVENT
UID:4081@espacecaningeispolsheim.fr
DTSTART;TZID=Europe/Paris:20250223T100000
DTEND;TZID=Europe/Paris:20250223T113000
DTSTAMP:20250225T214729Z
URL:https://espacecaningeispolsheim.fr/index.php/events/recre2-6-2025-02-2
 3/
SUMMARY:récré@2
DESCRIPTION:
CATEGORIES:Récré@2
END:VEVENT
BEGIN:VTIMEZONE
TZID:Europe/Paris
X-LIC-LOCATION:Europe/Paris
BEGIN:STANDARD
DTSTART:20241027T020000
TZOFFSETFROM:+0200
TZOFFSETTO:+0100
TZNAME:CET
END:STANDARD
END:VTIMEZONE
END:VCALENDAR