BEGIN:VCALENDAR
VERSION:2.0
PRODID:-//wp-events-plugin.com//7.2.3.1//EN
TZID:Europe/Paris
X-WR-TIMEZONE:Europe/Paris
BEGIN:VEVENT
UID:3004@espacecaningeispolsheim.fr
DTSTART;TZID=Europe/Paris:20241215T103000
DTEND;TZID=Europe/Paris:20241215T110000
DTSTAMP:20250223T210927Z
URL:https://espacecaningeispolsheim.fr/index.php/events/proprioception-7-2
 024-12-15/
SUMMARY:proprioception
DESCRIPTION:
CATEGORIES:Proprioception
END:VEVENT
BEGIN:VTIMEZONE
TZID:Europe/Paris
X-LIC-LOCATION:Europe/Paris
BEGIN:STANDARD
DTSTART:20241027T020000
TZOFFSETFROM:+0200
TZOFFSETTO:+0100
TZNAME:CET
END:STANDARD
END:VTIMEZONE
END:VCALENDAR