BEGIN:VCALENDAR
VERSION:2.0
PRODID:-//wp-events-plugin.com//7.2.3.1//EN
TZID:Europe/Paris
X-WR-TIMEZONE:Europe/Paris
BEGIN:VEVENT
UID:6500@espacecaningeispolsheim.fr
DTSTART;TZID=Europe/Paris:20260411T140000
DTEND;TZID=Europe/Paris:20260411T200000
DTSTAMP:20260302T223046Z
URL:https://espacecaningeispolsheim.fr/index.php/events/preparation-concou
 rs-agility/
SUMMARY:Préparation concours agility
DESCRIPTION:préparation du terrain\, des récompenses\, de la remise des d
 ossards et de l'ensemble des stands nécessaires pour le déroulement du c
 oncours.\nLe soir\, pour vous remercier de votre aide de la journée\, nou
 s organisons un repas.
CATEGORIES:Journée de travail
END:VEVENT
BEGIN:VTIMEZONE
TZID:Europe/Paris
X-LIC-LOCATION:Europe/Paris
BEGIN:DAYLIGHT
DTSTART:20260329T030000
TZOFFSETFROM:+0100
TZOFFSETTO:+0200
TZNAME:CEST
END:DAYLIGHT
END:VTIMEZONE
END:VCALENDAR