BEGIN:VCALENDAR
VERSION:2.0
PRODID:-//wp-events-plugin.com//7.2.3.1//EN
TZID:Europe/Paris
X-WR-TIMEZONE:Europe/Paris
BEGIN:VEVENT
UID:6489@espacecaningeispolsheim.fr
DTSTART;TZID=Europe/Paris:20260522T180000
DTEND;TZID=Europe/Paris:20260522T190000
DTSTAMP:20260219T182651Z
URL:https://espacecaningeispolsheim.fr/index.php/events/osteopathie-animal
 e-7/
SUMMARY:Ostéopathie animale
DESCRIPTION:Bonjour\,\n\nJe suis actuellement ostéopathe animalier en fin 
 de cursus\, en cours de validation par l’Ordre des vétérinaires\, dans
  le cadre de la préparation de mon examen final prévu en fin d’année.
  Afin de développer ma pratique et d’acquérir l’expérience nécessa
 ire à la validation de cet examen pratique\, je propose des séances d’
 ostéopathie animale dédiées au bien-être de vos compagnons.\n\nConform
 ément à la législation en vigueur\, la pratique de l’ostéopathie ani
 male par un non-vétérinaire est encadrée\, et toute activité professio
 nnelle avant validation de l’examen peut être considérée comme une pr
 atique illégale de la médecine vétérinaire. C’est pourquoi\, je prop
 ose ces séances dans un cadre strictement axé sur le bien-être animal\,
  sans remplacer le suivi vétérinaire.\nLes créneaux de réservation ouv
 rent 3 semaines avant la date de la séance et restent disponibles jusqu
 ’à 2 jours avant le rendez-vous.\nN’hésitez pas à me contacter par 
 email pour toute information complémentaire.\n📩 Contact : lucilewach.o
 steo@gmail.com
CATEGORIES:Osthéopathie
END:VEVENT
BEGIN:VTIMEZONE
TZID:Europe/Paris
X-LIC-LOCATION:Europe/Paris
BEGIN:DAYLIGHT
DTSTART:20260329T030000
TZOFFSETFROM:+0100
TZOFFSETTO:+0200
TZNAME:CEST
END:DAYLIGHT
END:VTIMEZONE
END:VCALENDAR