BEGIN:VCALENDAR
VERSION:2.0
PRODID:-//wp-events-plugin.com//7.2.3.1//EN
TZID:Europe/Paris
X-WR-TIMEZONE:Europe/Paris
BEGIN:VEVENT
UID:4299@espacecaningeispolsheim.fr
DTSTART;TZID=Europe/Paris:20250928T090000
DTEND;TZID=Europe/Paris:20250928T100000
DTSTAMP:20250513T204948Z
URL:https://espacecaningeispolsheim.fr/index.php/events/mini-recre2-2025-0
 9-28/
SUMMARY:mini récré@2
DESCRIPTION:Séance de récré@2 réservée aux chiens de petite taille\, a
 dultes (8mois et plus) sociables. Pour chaque demande de participation mer
 ci de contacter Zita
CATEGORIES:Récré@2
END:VEVENT
BEGIN:VTIMEZONE
TZID:Europe/Paris
X-LIC-LOCATION:Europe/Paris
BEGIN:DAYLIGHT
DTSTART:20250330T030000
TZOFFSETFROM:+0100
TZOFFSETTO:+0200
TZNAME:CEST
END:DAYLIGHT
END:VTIMEZONE
END:VCALENDAR