BEGIN:VCALENDAR
VERSION:2.0
PRODID:-//wp-events-plugin.com//7.2.3.1//EN
TZID:Europe/Paris
X-WR-TIMEZONE:Europe/Paris
BEGIN:VEVENT
UID:6499@espacecaningeispolsheim.fr
DTSTART;TZID=Europe/Paris:20260328T090000
DTEND;TZID=Europe/Paris:20260328T140000
DTSTAMP:20260302T222820Z
URL:https://espacecaningeispolsheim.fr/index.php/events/journee-de-travail
 -preparation-concours-agility/
SUMMARY:Journée de travail préparation concours agility
DESCRIPTION:Au programme : nettoyage du préau et installation des bâches\
 , nettoyage du club house et des algéco\, nettoyage des barbecue\, nettoy
 age des obstacles d'agility\, et réparation des obstacles le nécessitant
 .\n\nNous démarrerons à 9h00. Une demi-journée devrait suffire.
CATEGORIES:Journée de travail
END:VEVENT
BEGIN:VTIMEZONE
TZID:Europe/Paris
X-LIC-LOCATION:Europe/Paris
BEGIN:STANDARD
DTSTART:20251026T020000
TZOFFSETFROM:+0200
TZOFFSETTO:+0100
TZNAME:CET
END:STANDARD
END:VTIMEZONE
END:VCALENDAR