BEGIN:VCALENDAR
VERSION:2.0
PRODID:-//wp-events-plugin.com//7.2.3.1//EN
TZID:Europe/Paris
X-WR-TIMEZONE:Europe/Paris
BEGIN:VEVENT
UID:7570@espacecaningeispolsheim.fr
DTSTART;TZID=Europe/Paris:20260620T090000
DTEND;TZID=Europe/Paris:20260620T180000
DTSTAMP:20260422T193547Z
URL:https://espacecaningeispolsheim.fr/index.php/events/journee-de-travail
 -3/
SUMMARY:Journée de travail
DESCRIPTION:
CATEGORIES:Journée de travail
END:VEVENT
BEGIN:VTIMEZONE
TZID:Europe/Paris
X-LIC-LOCATION:Europe/Paris
BEGIN:DAYLIGHT
DTSTART:20260329T030000
TZOFFSETFROM:+0100
TZOFFSETTO:+0200
TZNAME:CEST
END:DAYLIGHT
END:VTIMEZONE
END:VCALENDAR