BEGIN:VCALENDAR
VERSION:2.0
PRODID:-//wp-events-plugin.com//7.2.3.1//EN
TZID:Europe/Paris
X-WR-TIMEZONE:Europe/Paris
BEGIN:VEVENT
UID:3917@espacecaningeispolsheim.fr
DTSTART;TZID=Europe/Paris:20250110T170000
DTEND;TZID=Europe/Paris:20250110T183000
DTSTAMP:20250102T155842Z
URL:https://espacecaningeispolsheim.fr/index.php/events/hoopers-competiteu
 rs-6/
SUMMARY:HOOPERS compétiteurs
DESCRIPTION:
CATEGORIES:Hooper
END:VEVENT
BEGIN:VTIMEZONE
TZID:Europe/Paris
X-LIC-LOCATION:Europe/Paris
BEGIN:STANDARD
DTSTART:20241027T020000
TZOFFSETFROM:+0200
TZOFFSETTO:+0100
TZNAME:CET
END:STANDARD
END:VTIMEZONE
END:VCALENDAR