BEGIN:VCALENDAR
VERSION:2.0
PRODID:-//wp-events-plugin.com//7.2.3.1//EN
TZID:Europe/Paris
X-WR-TIMEZONE:Europe/Paris
BEGIN:VEVENT
UID:4313@espacecaningeispolsheim.fr
DTSTART;TZID=Europe/Paris:20250516T170000
DTEND;TZID=Europe/Paris:20250516T183000
DTSTAMP:20250512T134932Z
URL:https://espacecaningeispolsheim.fr/index.php/events/hoopers-competiteu
 rs-17/
SUMMARY:HOOPERS compétiteurs
DESCRIPTION:
CATEGORIES:Hooper
END:VEVENT
BEGIN:VTIMEZONE
TZID:Europe/Paris
X-LIC-LOCATION:Europe/Paris
BEGIN:DAYLIGHT
DTSTART:20250330T030000
TZOFFSETFROM:+0100
TZOFFSETTO:+0200
TZNAME:CEST
END:DAYLIGHT
END:VTIMEZONE
END:VCALENDAR