BEGIN:VCALENDAR
VERSION:2.0
PRODID:-//wp-events-plugin.com//7.2.3.1//EN
TZID:Europe/Paris
X-WR-TIMEZONE:Europe/Paris
BEGIN:VEVENT
UID:3763@espacecaningeispolsheim.fr
DTSTART;TZID=Europe/Paris;VALUE=DATE:20241218
DTEND;TZID=Europe/Paris;VALUE=DATE:20250105
DTSTAMP:20241002T184224Z
URL:https://espacecaningeispolsheim.fr/index.php/events/fermeture-club/
SUMMARY:Fermeture club
DESCRIPTION:Fermeture du club pour les vacances de noël
CATEGORIES:Vacances Club
END:VEVENT
BEGIN:VTIMEZONE
TZID:Europe/Paris
X-LIC-LOCATION:Europe/Paris
BEGIN:STANDARD
DTSTART:20241027T020000
TZOFFSETFROM:+0200
TZOFFSETTO:+0100
TZNAME:CET
END:STANDARD
END:VTIMEZONE
END:VCALENDAR