BEGIN:VCALENDAR
VERSION:2.0
PRODID:-//wp-events-plugin.com//7.2.3.1//EN
TZID:Europe/Paris
X-WR-TIMEZONE:Europe/Paris
BEGIN:VEVENT
UID:4383@espacecaningeispolsheim.fr
DTSTART;TZID=Europe/Paris:20250621T093000
DTEND;TZID=Europe/Paris:20250621T133000
DTSTAMP:20250606T175418Z
URL:https://espacecaningeispolsheim.fr/index.php/events/entrainement-obeis
 sance-2/
SUMMARY:entrainement obéissance
DESCRIPTION:
CATEGORIES:Obéissance
END:VEVENT
BEGIN:VTIMEZONE
TZID:Europe/Paris
X-LIC-LOCATION:Europe/Paris
BEGIN:DAYLIGHT
DTSTART:20250330T030000
TZOFFSETFROM:+0100
TZOFFSETTO:+0200
TZNAME:CEST
END:DAYLIGHT
END:VTIMEZONE
END:VCALENDAR