BEGIN:VCALENDAR
VERSION:2.0
PRODID:-//wp-events-plugin.com//7.2.3.1//EN
TZID:Europe/Paris
X-WR-TIMEZONE:Europe/Paris
BEGIN:VEVENT
UID:3968@espacecaningeispolsheim.fr
DTSTART;TZID=Europe/Paris:20251209T200000
DTEND;TZID=Europe/Paris:20251209T204500
DTSTAMP:20250104T212304Z
URL:https://espacecaningeispolsheim.fr/index.php/events/education-26-2025-
 12-09/
SUMMARY:éducation
DESCRIPTION:
CATEGORIES:Education
END:VEVENT
BEGIN:VTIMEZONE
TZID:Europe/Paris
X-LIC-LOCATION:Europe/Paris
BEGIN:STANDARD
DTSTART:20251026T020000
TZOFFSETFROM:+0200
TZOFFSETTO:+0100
TZNAME:CET
END:STANDARD
END:VTIMEZONE
END:VCALENDAR