BEGIN:VCALENDAR
VERSION:2.0
PRODID:-//wp-events-plugin.com//7.2.3.1//EN
TZID:Europe/Paris
X-WR-TIMEZONE:Europe/Paris
BEGIN:VEVENT
UID:4061@espacecaningeispolsheim.fr
DTSTART;TZID=Europe/Paris:20251005T093000
DTEND;TZID=Europe/Paris:20251005T101500
DTSTAMP:20250119T080817Z
URL:https://espacecaningeispolsheim.fr/index.php/events/ecole-de-chiots-6-
 2025-10-05/
SUMMARY:école de chiots
DESCRIPTION:
CATEGORIES:chiots
END:VEVENT
BEGIN:VTIMEZONE
TZID:Europe/Paris
X-LIC-LOCATION:Europe/Paris
BEGIN:DAYLIGHT
DTSTART:20250330T030000
TZOFFSETFROM:+0100
TZOFFSETTO:+0200
TZNAME:CEST
END:DAYLIGHT
END:VTIMEZONE
END:VCALENDAR