BEGIN:VCALENDAR
VERSION:2.0
PRODID:-//wp-events-plugin.com//7.2.3.1//EN
TZID:Europe/Paris
X-WR-TIMEZONE:Europe/Paris
BEGIN:VEVENT
UID:3974@espacecaningeispolsheim.fr
DTSTART;TZID=Europe/Paris:20250128T191500
DTEND;TZID=Europe/Paris:20250128T200000
DTSTAMP:20250104T213029Z
URL:https://espacecaningeispolsheim.fr/index.php/events/ecole-de-chiots-5-
 2025-01-28/
SUMMARY:école de chiots
DESCRIPTION:
CATEGORIES:chiots
END:VEVENT
BEGIN:VTIMEZONE
TZID:Europe/Paris
X-LIC-LOCATION:Europe/Paris
BEGIN:STANDARD
DTSTART:20241027T020000
TZOFFSETFROM:+0200
TZOFFSETTO:+0100
TZNAME:CET
END:STANDARD
END:VTIMEZONE
END:VCALENDAR