BEGIN:VCALENDAR
VERSION:2.0
PRODID:-//wp-events-plugin.com//7.2.3.1//EN
TZID:Europe/Paris
X-WR-TIMEZONE:Europe/Paris
BEGIN:VEVENT
UID:3069@espacecaningeispolsheim.fr
DTSTART;TZID=Europe/Paris:20240416T191500
DTEND;TZID=Europe/Paris:20240416T200000
DTSTAMP:20240414T172431Z
URL:https://espacecaningeispolsheim.fr/index.php/events/ecole-de-chiots-3-
 2024-04-16/
SUMMARY:école de chiots
DESCRIPTION:
CATEGORIES:chiots
END:VEVENT
BEGIN:VTIMEZONE
TZID:Europe/Paris
X-LIC-LOCATION:Europe/Paris
BEGIN:DAYLIGHT
DTSTART:20240331T030000
TZOFFSETFROM:+0100
TZOFFSETTO:+0200
TZNAME:CEST
END:DAYLIGHT
END:VTIMEZONE
END:VCALENDAR