BEGIN:VCALENDAR
VERSION:2.0
PRODID:-//wp-events-plugin.com//7.2.3.1//EN
TZID:Europe/Paris
X-WR-TIMEZONE:Europe/Paris
BEGIN:VEVENT
UID:4200@espacecaningeispolsheim.fr
DTSTART;TZID=Europe/Paris:20250425T190000
DTEND;TZID=Europe/Paris:20250425T230000
DTSTAMP:20250422T111707Z
URL:https://espacecaningeispolsheim.fr/index.php/events/assemblee-generale
 -du-club/
SUMMARY:Repas de l'ssemblée générale du club
DESCRIPTION:Le club organise son assemblée générale ordinaire. Au progra
 mme :\n\n- rapport financier\n\n- rapport moral du président\n\n- rapport
  d'activité des disciplines.\n\n- élection de la moitié des membres du 
 comité\n\nÀ l'issue de l'assemblée\, vous serez invité à un repas. L'
 inscription à cet évènement nous permet d'estimer les quantités pour l
 e repas.\n\nAfin de nous permettre de nous organiser veuillez vous inscrir
 e à cet évènement avant le 22 avril.\n\nSi vous ne souhaitez pas rester
  pour le repas\, inutile de vous inscrire.\n\n&nbsp\;\n\nVenez nombreux !\
 n\n&nbsp\;
CATEGORIES:Reservations
END:VEVENT
BEGIN:VTIMEZONE
TZID:Europe/Paris
X-LIC-LOCATION:Europe/Paris
BEGIN:DAYLIGHT
DTSTART:20250330T030000
TZOFFSETFROM:+0100
TZOFFSETTO:+0200
TZNAME:CEST
END:DAYLIGHT
END:VTIMEZONE
END:VCALENDAR