BEGIN:VCALENDAR
VERSION:2.0
PRODID:-//wp-events-plugin.com//7.2.3.1//EN
TZID:Europe/Paris
X-WR-TIMEZONE:Europe/Paris
BEGIN:VEVENT
UID:4197@espacecaningeispolsheim.fr
DTSTART;TZID=Europe/Paris:20250113T180000
DTEND;TZID=Europe/Paris:20250113T200000
DTSTAMP:20250106T201232Z
URL:https://espacecaningeispolsheim.fr/index.php/events/agility-debutants-
 346/
SUMMARY:Agility débutants
DESCRIPTION:
CATEGORIES:Agility
END:VEVENT
BEGIN:VTIMEZONE
TZID:Europe/Paris
X-LIC-LOCATION:Europe/Paris
BEGIN:STANDARD
DTSTART:20241027T020000
TZOFFSETFROM:+0200
TZOFFSETTO:+0100
TZNAME:CET
END:STANDARD
END:VTIMEZONE
END:VCALENDAR