BEGIN:VCALENDAR
VERSION:2.0
PRODID:-//wp-events-plugin.com//7.2.3.1//EN
TZID:Europe/Paris
X-WR-TIMEZONE:Europe/Paris
BEGIN:VEVENT
UID:3133@espacecaningeispolsheim.fr
DTSTART;TZID=Europe/Paris:20240122T191500
DTEND;TZID=Europe/Paris:20240122T201500
DTSTAMP:20250526T205735Z
URL:https://espacecaningeispolsheim.fr/index.php/events/agility-debutants-
 279/
SUMMARY:Agility débutants
DESCRIPTION:
CATEGORIES:Agility
END:VEVENT
BEGIN:VTIMEZONE
TZID:Europe/Paris
X-LIC-LOCATION:Europe/Paris
BEGIN:STANDARD
DTSTART:20231029T020000
TZOFFSETFROM:+0200
TZOFFSETTO:+0100
TZNAME:CET
END:STANDARD
END:VTIMEZONE
END:VCALENDAR